BEGIN:VCALENDAR
VERSION:2.0
PRODID:-//wp-events-plugin.com//7.2.2.1//EN
BEGIN:VEVENT
UID:607@pg-seeg.de
DTSTART:20260503T170000Z
DTEND:20260503T170000Z
DTSTAMP:20260420T090610Z
URL:https://pg-seeg.de/events/kinder-maiandacht-am-kalkofen-2/
SUMMARY:Kinder-Maiandacht am Kalkofen
DESCRIPTION:Herzliche Einladung zur Kinder-Maiandacht am Sonntag\, 03. Mai 
 2026 um 17:00 Uhr an der Mariengrotte am Kalkofen - bei Regen in der Pfarr
 kirche-.\n\nWer möchte\, kann eine Blume für Maria mitbringen.\n\nAuf eu
 er Kommen freut sich das Kindergottesdienstteam Seeg.
LOCATION:Kalkofen bei Seeg\, Kalkofen\, Seeg\, 87637\, Bayern\, Deutschland
X-APPLE-STRUCTURED-LOCATION;VALUE=URI;X-ADDRESS=Kalkofen\, Seeg\, 87637\, B
 ayern\, Deutschland;X-APPLE-RADIUS=100;X-TITLE=Kalkofen bei Seeg:geo:0,0
END:VEVENT
END:VCALENDAR