BEGIN:VCALENDAR
VERSION:2.0
PRODID:-//wp-events-plugin.com//7.2.2.1//EN
BEGIN:VEVENT
UID:309@pg-seeg.de
DTSTART:20231017T133000Z
DTEND:20231017T200000Z
DTSTAMP:20230921T062705Z
URL:https://pg-seeg.de/events/herbstausflug-der-pfarrei-st-martin-hopferau
 /
SUMMARY:Herbstausflug der Pfarrei St. Martin Hopferau
DESCRIPTION:Am Dienstag\, 17.10. findet der Herbstausflug statt. Abfahrt um
  13.30 Uhr am Auenhalle Parkplatz mit Privatautos. Wir fahren nach Ursprin
 g.\nIn der Kirche Maria Magdalena halten wir eine Andacht.\nIm idyllisch g
 elegenen\, historischen Gasthaus Illach genießen wir einen gemütlichen N
 achmittag. Um 18.00 Uhr haben wir eine Führung im Illach Kraftwerk. Es is
 t das älteste E-Werk\, das täglich Strom produziert.\n\nAnmeldungen bei 
 Barbara Breher\, Tel.: 08364/8208 oder Maria Zellner Tel.: 08364/9192. Bit
 te gib uns bis 15.10. Bescheid\, ob Du bei der Führung dabei bist!
LOCATION:Pfarrkirche St. Martin\, Hauptstraße 43\, 87659\, Bayern\, Hopfer
 au\, Deutschland
X-APPLE-STRUCTURED-LOCATION;VALUE=URI;X-ADDRESS=Hauptstraße 43\, 87659\, B
 ayern\, Hopferau\, Deutschland;X-APPLE-RADIUS=100;X-TITLE=Pfarrkirche St. 
 Martin:geo:0,0
END:VEVENT
END:VCALENDAR