BEGIN:VCALENDAR
VERSION:2.0
PRODID:-//wp-events-plugin.com//7.2.2.1//EN
BEGIN:VEVENT
UID:82@pg-seeg.de
DTSTART:20210919T113000Z
DTEND:20210919T123000Z
DTSTAMP:20210916T074223Z
URL:https://pg-seeg.de/events/bergmesse-am-19-09-auf-der-stuibensennalpe-i
 st-abgesagt/
SUMMARY:Bergmesse am 19.09. auf der Stuibensennalpe ist ABGESAGT
DESCRIPTION:Die Bergmesse am Sonntag\, 19.09. auf der Stuibensennalpe bei S
 chattwald ist aufgrund der Wetterlage leider abgesagt!
END:VEVENT
END:VCALENDAR